BEGIN:VCALENDAR
VERSION:2.0
PRODID:-//Webster County, Kentucky - ECPv6.15.17.1//NONSGML v1.0//EN
CALSCALE:GREGORIAN
METHOD:PUBLISH
X-ORIGINAL-URL:https://webstercountykentucky.org
X-WR-CALDESC:Events for Webster County, Kentucky
REFRESH-INTERVAL;VALUE=DURATION:PT1H
X-Robots-Tag:noindex
X-PUBLISHED-TTL:PT1H
BEGIN:VTIMEZONE
TZID:America/Chicago
BEGIN:DAYLIGHT
TZOFFSETFROM:-0600
TZOFFSETTO:-0500
TZNAME:CDT
DTSTART:20250309T080000
END:DAYLIGHT
BEGIN:STANDARD
TZOFFSETFROM:-0500
TZOFFSETTO:-0600
TZNAME:CST
DTSTART:20251102T070000
END:STANDARD
BEGIN:DAYLIGHT
TZOFFSETFROM:-0600
TZOFFSETTO:-0500
TZNAME:CDT
DTSTART:20260308T080000
END:DAYLIGHT
BEGIN:STANDARD
TZOFFSETFROM:-0500
TZOFFSETTO:-0600
TZNAME:CST
DTSTART:20261101T070000
END:STANDARD
BEGIN:DAYLIGHT
TZOFFSETFROM:-0600
TZOFFSETTO:-0500
TZNAME:CDT
DTSTART:20270314T080000
END:DAYLIGHT
BEGIN:STANDARD
TZOFFSETFROM:-0500
TZOFFSETTO:-0600
TZNAME:CST
DTSTART:20271107T070000
END:STANDARD
BEGIN:DAYLIGHT
TZOFFSETFROM:-0600
TZOFFSETTO:-0500
TZNAME:CDT
DTSTART:20280312T080000
END:DAYLIGHT
BEGIN:STANDARD
TZOFFSETFROM:-0500
TZOFFSETTO:-0600
TZNAME:CST
DTSTART:20281105T070000
END:STANDARD
END:VTIMEZONE
BEGIN:VEVENT
DTSTART;TZID=America/Chicago:20260928T090000
DTEND;TZID=America/Chicago:20260928T090000
DTSTAMP:20260422T100622
CREATED:20251121T193936Z
LAST-MODIFIED:20251203T150636Z
UID:10000148-1790586000-1790586000@webstercountykentucky.org
SUMMARY:Fiscal Court Meeting
DESCRIPTION:The Webster County Fiscal Court meets on the 2nd and 4th Monday of each month. Meetings are held at 9am at the Webster County Senior Center.
URL:https://webstercountykentucky.org/event/fiscal-court-meeting/2026-09-28/
LOCATION:Webster County Senior Center\, 80 N College St.\, Dixon\, KY\, 42409\, United States
END:VEVENT
BEGIN:VEVENT
DTSTART;TZID=America/Chicago:20261012T090000
DTEND;TZID=America/Chicago:20261012T090000
DTSTAMP:20260422T100622
CREATED:20251121T193936Z
LAST-MODIFIED:20251203T150636Z
UID:10000149-1791795600-1791795600@webstercountykentucky.org
SUMMARY:Fiscal Court Meeting
DESCRIPTION:The Webster County Fiscal Court meets on the 2nd and 4th Monday of each month. Meetings are held at 9am at the Webster County Senior Center.
URL:https://webstercountykentucky.org/event/fiscal-court-meeting/2026-10-12/
LOCATION:Webster County Senior Center\, 80 N College St.\, Dixon\, KY\, 42409\, United States
END:VEVENT
BEGIN:VEVENT
DTSTART;TZID=America/Chicago:20261026T090000
DTEND;TZID=America/Chicago:20261026T090000
DTSTAMP:20260422T100622
CREATED:20251121T193936Z
LAST-MODIFIED:20251203T150636Z
UID:10000150-1793005200-1793005200@webstercountykentucky.org
SUMMARY:Fiscal Court Meeting
DESCRIPTION:The Webster County Fiscal Court meets on the 2nd and 4th Monday of each month. Meetings are held at 9am at the Webster County Senior Center.
URL:https://webstercountykentucky.org/event/fiscal-court-meeting/2026-10-26/
LOCATION:Webster County Senior Center\, 80 N College St.\, Dixon\, KY\, 42409\, United States
END:VEVENT
BEGIN:VEVENT
DTSTART;TZID=America/Chicago:20261109T090000
DTEND;TZID=America/Chicago:20261109T090000
DTSTAMP:20260422T100622
CREATED:20251121T193936Z
LAST-MODIFIED:20251203T150636Z
UID:10000151-1794214800-1794214800@webstercountykentucky.org
SUMMARY:Fiscal Court Meeting
DESCRIPTION:The Webster County Fiscal Court meets on the 2nd and 4th Monday of each month. Meetings are held at 9am at the Webster County Senior Center.
URL:https://webstercountykentucky.org/event/fiscal-court-meeting/2026-11-09/
LOCATION:Webster County Senior Center\, 80 N College St.\, Dixon\, KY\, 42409\, United States
END:VEVENT
BEGIN:VEVENT
DTSTART;TZID=America/Chicago:20261123T090000
DTEND;TZID=America/Chicago:20261123T090000
DTSTAMP:20260422T100622
CREATED:20251121T193936Z
LAST-MODIFIED:20251203T150636Z
UID:10000152-1795424400-1795424400@webstercountykentucky.org
SUMMARY:Fiscal Court Meeting
DESCRIPTION:The Webster County Fiscal Court meets on the 2nd and 4th Monday of each month. Meetings are held at 9am at the Webster County Senior Center.
URL:https://webstercountykentucky.org/event/fiscal-court-meeting/2026-11-23/
LOCATION:Webster County Senior Center\, 80 N College St.\, Dixon\, KY\, 42409\, United States
END:VEVENT
BEGIN:VEVENT
DTSTART;TZID=America/Chicago:20261214T090000
DTEND;TZID=America/Chicago:20261214T090000
DTSTAMP:20260422T100622
CREATED:20251121T193936Z
LAST-MODIFIED:20251203T150636Z
UID:10000153-1797238800-1797238800@webstercountykentucky.org
SUMMARY:Fiscal Court Meeting
DESCRIPTION:The Webster County Fiscal Court meets on the 2nd and 4th Monday of each month. Meetings are held at 9am at the Webster County Senior Center.
URL:https://webstercountykentucky.org/event/fiscal-court-meeting/2026-12-14/
LOCATION:Webster County Senior Center\, 80 N College St.\, Dixon\, KY\, 42409\, United States
END:VEVENT
BEGIN:VEVENT
DTSTART;TZID=America/Chicago:20261228T090000
DTEND;TZID=America/Chicago:20261228T090000
DTSTAMP:20260422T100622
CREATED:20251121T193936Z
LAST-MODIFIED:20251203T150636Z
UID:10000154-1798448400-1798448400@webstercountykentucky.org
SUMMARY:Fiscal Court Meeting
DESCRIPTION:The Webster County Fiscal Court meets on the 2nd and 4th Monday of each month. Meetings are held at 9am at the Webster County Senior Center.
URL:https://webstercountykentucky.org/event/fiscal-court-meeting/2026-12-28/
LOCATION:Webster County Senior Center\, 80 N College St.\, Dixon\, KY\, 42409\, United States
END:VEVENT
BEGIN:VEVENT
DTSTART;TZID=America/Chicago:20270111T090000
DTEND;TZID=America/Chicago:20270111T090000
DTSTAMP:20260422T100622
CREATED:20251121T193936Z
LAST-MODIFIED:20251203T150636Z
UID:10000155-1799658000-1799658000@webstercountykentucky.org
SUMMARY:Fiscal Court Meeting
DESCRIPTION:The Webster County Fiscal Court meets on the 2nd and 4th Monday of each month. Meetings are held at 9am at the Webster County Senior Center.
URL:https://webstercountykentucky.org/event/fiscal-court-meeting/2027-01-11/
LOCATION:Webster County Senior Center\, 80 N College St.\, Dixon\, KY\, 42409\, United States
END:VEVENT
BEGIN:VEVENT
DTSTART;TZID=America/Chicago:20270125T090000
DTEND;TZID=America/Chicago:20270125T090000
DTSTAMP:20260422T100622
CREATED:20251121T193936Z
LAST-MODIFIED:20251203T150636Z
UID:10000156-1800867600-1800867600@webstercountykentucky.org
SUMMARY:Fiscal Court Meeting
DESCRIPTION:The Webster County Fiscal Court meets on the 2nd and 4th Monday of each month. Meetings are held at 9am at the Webster County Senior Center.
URL:https://webstercountykentucky.org/event/fiscal-court-meeting/2027-01-25/
LOCATION:Webster County Senior Center\, 80 N College St.\, Dixon\, KY\, 42409\, United States
END:VEVENT
BEGIN:VEVENT
DTSTART;TZID=America/Chicago:20270208T090000
DTEND;TZID=America/Chicago:20270208T090000
DTSTAMP:20260422T100622
CREATED:20251121T193936Z
LAST-MODIFIED:20251203T150636Z
UID:10000157-1802077200-1802077200@webstercountykentucky.org
SUMMARY:Fiscal Court Meeting
DESCRIPTION:The Webster County Fiscal Court meets on the 2nd and 4th Monday of each month. Meetings are held at 9am at the Webster County Senior Center.
URL:https://webstercountykentucky.org/event/fiscal-court-meeting/2027-02-08/
LOCATION:Webster County Senior Center\, 80 N College St.\, Dixon\, KY\, 42409\, United States
END:VEVENT
BEGIN:VEVENT
DTSTART;TZID=America/Chicago:20270222T090000
DTEND;TZID=America/Chicago:20270222T090000
DTSTAMP:20260422T100622
CREATED:20251121T193936Z
LAST-MODIFIED:20251203T150636Z
UID:10000158-1803286800-1803286800@webstercountykentucky.org
SUMMARY:Fiscal Court Meeting
DESCRIPTION:The Webster County Fiscal Court meets on the 2nd and 4th Monday of each month. Meetings are held at 9am at the Webster County Senior Center.
URL:https://webstercountykentucky.org/event/fiscal-court-meeting/2027-02-22/
LOCATION:Webster County Senior Center\, 80 N College St.\, Dixon\, KY\, 42409\, United States
END:VEVENT
BEGIN:VEVENT
DTSTART;TZID=America/Chicago:20270308T090000
DTEND;TZID=America/Chicago:20270308T090000
DTSTAMP:20260422T100622
CREATED:20251121T193936Z
LAST-MODIFIED:20251203T150636Z
UID:10000159-1804496400-1804496400@webstercountykentucky.org
SUMMARY:Fiscal Court Meeting
DESCRIPTION:The Webster County Fiscal Court meets on the 2nd and 4th Monday of each month. Meetings are held at 9am at the Webster County Senior Center.
URL:https://webstercountykentucky.org/event/fiscal-court-meeting/2027-03-08/
LOCATION:Webster County Senior Center\, 80 N College St.\, Dixon\, KY\, 42409\, United States
END:VEVENT
BEGIN:VEVENT
DTSTART;TZID=America/Chicago:20270322T090000
DTEND;TZID=America/Chicago:20270322T090000
DTSTAMP:20260422T100622
CREATED:20251121T193936Z
LAST-MODIFIED:20251203T150636Z
UID:10000160-1805706000-1805706000@webstercountykentucky.org
SUMMARY:Fiscal Court Meeting
DESCRIPTION:The Webster County Fiscal Court meets on the 2nd and 4th Monday of each month. Meetings are held at 9am at the Webster County Senior Center.
URL:https://webstercountykentucky.org/event/fiscal-court-meeting/2027-03-22/
LOCATION:Webster County Senior Center\, 80 N College St.\, Dixon\, KY\, 42409\, United States
END:VEVENT
BEGIN:VEVENT
DTSTART;TZID=America/Chicago:20270412T090000
DTEND;TZID=America/Chicago:20270412T090000
DTSTAMP:20260422T100622
CREATED:20251121T193936Z
LAST-MODIFIED:20251203T150636Z
UID:10000161-1807520400-1807520400@webstercountykentucky.org
SUMMARY:Fiscal Court Meeting
DESCRIPTION:The Webster County Fiscal Court meets on the 2nd and 4th Monday of each month. Meetings are held at 9am at the Webster County Senior Center.
URL:https://webstercountykentucky.org/event/fiscal-court-meeting/2027-04-12/
LOCATION:Webster County Senior Center\, 80 N College St.\, Dixon\, KY\, 42409\, United States
END:VEVENT
BEGIN:VEVENT
DTSTART;TZID=America/Chicago:20270426T090000
DTEND;TZID=America/Chicago:20270426T090000
DTSTAMP:20260422T100622
CREATED:20251121T193936Z
LAST-MODIFIED:20251203T150636Z
UID:10000162-1808730000-1808730000@webstercountykentucky.org
SUMMARY:Fiscal Court Meeting
DESCRIPTION:The Webster County Fiscal Court meets on the 2nd and 4th Monday of each month. Meetings are held at 9am at the Webster County Senior Center.
URL:https://webstercountykentucky.org/event/fiscal-court-meeting/2027-04-26/
LOCATION:Webster County Senior Center\, 80 N College St.\, Dixon\, KY\, 42409\, United States
END:VEVENT
BEGIN:VEVENT
DTSTART;TZID=America/Chicago:20270510T090000
DTEND;TZID=America/Chicago:20270510T090000
DTSTAMP:20260422T100622
CREATED:20251121T193936Z
LAST-MODIFIED:20251203T150636Z
UID:10000163-1809939600-1809939600@webstercountykentucky.org
SUMMARY:Fiscal Court Meeting
DESCRIPTION:The Webster County Fiscal Court meets on the 2nd and 4th Monday of each month. Meetings are held at 9am at the Webster County Senior Center.
URL:https://webstercountykentucky.org/event/fiscal-court-meeting/2027-05-10/
LOCATION:Webster County Senior Center\, 80 N College St.\, Dixon\, KY\, 42409\, United States
END:VEVENT
BEGIN:VEVENT
DTSTART;TZID=America/Chicago:20270524T090000
DTEND;TZID=America/Chicago:20270524T090000
DTSTAMP:20260422T100622
CREATED:20251121T193936Z
LAST-MODIFIED:20251203T150636Z
UID:10000164-1811149200-1811149200@webstercountykentucky.org
SUMMARY:Fiscal Court Meeting
DESCRIPTION:The Webster County Fiscal Court meets on the 2nd and 4th Monday of each month. Meetings are held at 9am at the Webster County Senior Center.
URL:https://webstercountykentucky.org/event/fiscal-court-meeting/2027-05-24/
LOCATION:Webster County Senior Center\, 80 N College St.\, Dixon\, KY\, 42409\, United States
END:VEVENT
BEGIN:VEVENT
DTSTART;TZID=America/Chicago:20270614T090000
DTEND;TZID=America/Chicago:20270614T090000
DTSTAMP:20260422T100622
CREATED:20251121T193936Z
LAST-MODIFIED:20251203T150636Z
UID:10000165-1812963600-1812963600@webstercountykentucky.org
SUMMARY:Fiscal Court Meeting
DESCRIPTION:The Webster County Fiscal Court meets on the 2nd and 4th Monday of each month. Meetings are held at 9am at the Webster County Senior Center.
URL:https://webstercountykentucky.org/event/fiscal-court-meeting/2027-06-14/
LOCATION:Webster County Senior Center\, 80 N College St.\, Dixon\, KY\, 42409\, United States
END:VEVENT
BEGIN:VEVENT
DTSTART;TZID=America/Chicago:20270628T090000
DTEND;TZID=America/Chicago:20270628T090000
DTSTAMP:20260422T100622
CREATED:20251121T193936Z
LAST-MODIFIED:20251203T150636Z
UID:10000166-1814173200-1814173200@webstercountykentucky.org
SUMMARY:Fiscal Court Meeting
DESCRIPTION:The Webster County Fiscal Court meets on the 2nd and 4th Monday of each month. Meetings are held at 9am at the Webster County Senior Center.
URL:https://webstercountykentucky.org/event/fiscal-court-meeting/2027-06-28/
LOCATION:Webster County Senior Center\, 80 N College St.\, Dixon\, KY\, 42409\, United States
END:VEVENT
BEGIN:VEVENT
DTSTART;TZID=America/Chicago:20270712T090000
DTEND;TZID=America/Chicago:20270712T090000
DTSTAMP:20260422T100622
CREATED:20251121T193936Z
LAST-MODIFIED:20251203T150636Z
UID:10000167-1815382800-1815382800@webstercountykentucky.org
SUMMARY:Fiscal Court Meeting
DESCRIPTION:The Webster County Fiscal Court meets on the 2nd and 4th Monday of each month. Meetings are held at 9am at the Webster County Senior Center.
URL:https://webstercountykentucky.org/event/fiscal-court-meeting/2027-07-12/
LOCATION:Webster County Senior Center\, 80 N College St.\, Dixon\, KY\, 42409\, United States
END:VEVENT
BEGIN:VEVENT
DTSTART;TZID=America/Chicago:20270726T090000
DTEND;TZID=America/Chicago:20270726T090000
DTSTAMP:20260422T100622
CREATED:20251121T193936Z
LAST-MODIFIED:20251203T150636Z
UID:10000168-1816592400-1816592400@webstercountykentucky.org
SUMMARY:Fiscal Court Meeting
DESCRIPTION:The Webster County Fiscal Court meets on the 2nd and 4th Monday of each month. Meetings are held at 9am at the Webster County Senior Center.
URL:https://webstercountykentucky.org/event/fiscal-court-meeting/2027-07-26/
LOCATION:Webster County Senior Center\, 80 N College St.\, Dixon\, KY\, 42409\, United States
END:VEVENT
BEGIN:VEVENT
DTSTART;TZID=America/Chicago:20270809T090000
DTEND;TZID=America/Chicago:20270809T090000
DTSTAMP:20260422T100622
CREATED:20251121T193936Z
LAST-MODIFIED:20251203T150636Z
UID:10000169-1817802000-1817802000@webstercountykentucky.org
SUMMARY:Fiscal Court Meeting
DESCRIPTION:The Webster County Fiscal Court meets on the 2nd and 4th Monday of each month. Meetings are held at 9am at the Webster County Senior Center.
URL:https://webstercountykentucky.org/event/fiscal-court-meeting/2027-08-09/
LOCATION:Webster County Senior Center\, 80 N College St.\, Dixon\, KY\, 42409\, United States
END:VEVENT
BEGIN:VEVENT
DTSTART;TZID=America/Chicago:20270823T090000
DTEND;TZID=America/Chicago:20270823T090000
DTSTAMP:20260422T100622
CREATED:20251121T193936Z
LAST-MODIFIED:20251203T150636Z
UID:10000170-1819011600-1819011600@webstercountykentucky.org
SUMMARY:Fiscal Court Meeting
DESCRIPTION:The Webster County Fiscal Court meets on the 2nd and 4th Monday of each month. Meetings are held at 9am at the Webster County Senior Center.
URL:https://webstercountykentucky.org/event/fiscal-court-meeting/2027-08-23/
LOCATION:Webster County Senior Center\, 80 N College St.\, Dixon\, KY\, 42409\, United States
END:VEVENT
BEGIN:VEVENT
DTSTART;TZID=America/Chicago:20270913T090000
DTEND;TZID=America/Chicago:20270913T090000
DTSTAMP:20260422T100622
CREATED:20251121T193936Z
LAST-MODIFIED:20251203T150636Z
UID:10000171-1820826000-1820826000@webstercountykentucky.org
SUMMARY:Fiscal Court Meeting
DESCRIPTION:The Webster County Fiscal Court meets on the 2nd and 4th Monday of each month. Meetings are held at 9am at the Webster County Senior Center.
URL:https://webstercountykentucky.org/event/fiscal-court-meeting/2027-09-13/
LOCATION:Webster County Senior Center\, 80 N College St.\, Dixon\, KY\, 42409\, United States
END:VEVENT
BEGIN:VEVENT
DTSTART;TZID=America/Chicago:20270927T090000
DTEND;TZID=America/Chicago:20270927T090000
DTSTAMP:20260422T100622
CREATED:20251121T193936Z
LAST-MODIFIED:20251203T150636Z
UID:10000172-1822035600-1822035600@webstercountykentucky.org
SUMMARY:Fiscal Court Meeting
DESCRIPTION:The Webster County Fiscal Court meets on the 2nd and 4th Monday of each month. Meetings are held at 9am at the Webster County Senior Center.
URL:https://webstercountykentucky.org/event/fiscal-court-meeting/2027-09-27/
LOCATION:Webster County Senior Center\, 80 N College St.\, Dixon\, KY\, 42409\, United States
END:VEVENT
BEGIN:VEVENT
DTSTART;TZID=America/Chicago:20271011T090000
DTEND;TZID=America/Chicago:20271011T090000
DTSTAMP:20260422T100622
CREATED:20251121T193936Z
LAST-MODIFIED:20251203T150636Z
UID:10000173-1823245200-1823245200@webstercountykentucky.org
SUMMARY:Fiscal Court Meeting
DESCRIPTION:The Webster County Fiscal Court meets on the 2nd and 4th Monday of each month. Meetings are held at 9am at the Webster County Senior Center.
URL:https://webstercountykentucky.org/event/fiscal-court-meeting/2027-10-11/
LOCATION:Webster County Senior Center\, 80 N College St.\, Dixon\, KY\, 42409\, United States
END:VEVENT
BEGIN:VEVENT
DTSTART;TZID=America/Chicago:20271025T090000
DTEND;TZID=America/Chicago:20271025T090000
DTSTAMP:20260422T100622
CREATED:20251121T193936Z
LAST-MODIFIED:20251203T150636Z
UID:10000174-1824454800-1824454800@webstercountykentucky.org
SUMMARY:Fiscal Court Meeting
DESCRIPTION:The Webster County Fiscal Court meets on the 2nd and 4th Monday of each month. Meetings are held at 9am at the Webster County Senior Center.
URL:https://webstercountykentucky.org/event/fiscal-court-meeting/2027-10-25/
LOCATION:Webster County Senior Center\, 80 N College St.\, Dixon\, KY\, 42409\, United States
END:VEVENT
BEGIN:VEVENT
DTSTART;TZID=America/Chicago:20271108T090000
DTEND;TZID=America/Chicago:20271108T090000
DTSTAMP:20260422T100622
CREATED:20251121T193936Z
LAST-MODIFIED:20251203T150636Z
UID:10000175-1825664400-1825664400@webstercountykentucky.org
SUMMARY:Fiscal Court Meeting
DESCRIPTION:The Webster County Fiscal Court meets on the 2nd and 4th Monday of each month. Meetings are held at 9am at the Webster County Senior Center.
URL:https://webstercountykentucky.org/event/fiscal-court-meeting/2027-11-08/
LOCATION:Webster County Senior Center\, 80 N College St.\, Dixon\, KY\, 42409\, United States
END:VEVENT
BEGIN:VEVENT
DTSTART;TZID=America/Chicago:20271122T090000
DTEND;TZID=America/Chicago:20271122T090000
DTSTAMP:20260422T100622
CREATED:20251121T193936Z
LAST-MODIFIED:20251203T150636Z
UID:10000176-1826874000-1826874000@webstercountykentucky.org
SUMMARY:Fiscal Court Meeting
DESCRIPTION:The Webster County Fiscal Court meets on the 2nd and 4th Monday of each month. Meetings are held at 9am at the Webster County Senior Center.
URL:https://webstercountykentucky.org/event/fiscal-court-meeting/2027-11-22/
LOCATION:Webster County Senior Center\, 80 N College St.\, Dixon\, KY\, 42409\, United States
END:VEVENT
BEGIN:VEVENT
DTSTART;TZID=America/Chicago:20271213T090000
DTEND;TZID=America/Chicago:20271213T090000
DTSTAMP:20260422T100622
CREATED:20251121T193936Z
LAST-MODIFIED:20251203T150636Z
UID:10000177-1828688400-1828688400@webstercountykentucky.org
SUMMARY:Fiscal Court Meeting
DESCRIPTION:The Webster County Fiscal Court meets on the 2nd and 4th Monday of each month. Meetings are held at 9am at the Webster County Senior Center.
URL:https://webstercountykentucky.org/event/fiscal-court-meeting/2027-12-13/
LOCATION:Webster County Senior Center\, 80 N College St.\, Dixon\, KY\, 42409\, United States
END:VEVENT
END:VCALENDAR