BEGIN:VCALENDAR
VERSION:2.0
PRODID:-//Webster County, Kentucky - ECPv6.15.17.1//NONSGML v1.0//EN
CALSCALE:GREGORIAN
METHOD:PUBLISH
X-WR-CALNAME:Webster County, Kentucky
X-ORIGINAL-URL:https://webstercountykentucky.org
X-WR-CALDESC:Events for Webster County, Kentucky
REFRESH-INTERVAL;VALUE=DURATION:PT1H
X-Robots-Tag:noindex
X-PUBLISHED-TTL:PT1H
BEGIN:VTIMEZONE
TZID:America/Chicago
BEGIN:DAYLIGHT
TZOFFSETFROM:-0600
TZOFFSETTO:-0500
TZNAME:CDT
DTSTART:20270314T080000
END:DAYLIGHT
BEGIN:STANDARD
TZOFFSETFROM:-0500
TZOFFSETTO:-0600
TZNAME:CST
DTSTART:20271107T070000
END:STANDARD
BEGIN:DAYLIGHT
TZOFFSETFROM:-0600
TZOFFSETTO:-0500
TZNAME:CDT
DTSTART:20280312T080000
END:DAYLIGHT
BEGIN:STANDARD
TZOFFSETFROM:-0500
TZOFFSETTO:-0600
TZNAME:CST
DTSTART:20281105T070000
END:STANDARD
BEGIN:DAYLIGHT
TZOFFSETFROM:-0600
TZOFFSETTO:-0500
TZNAME:CDT
DTSTART:20290311T080000
END:DAYLIGHT
BEGIN:STANDARD
TZOFFSETFROM:-0500
TZOFFSETTO:-0600
TZNAME:CST
DTSTART:20291104T070000
END:STANDARD
BEGIN:DAYLIGHT
TZOFFSETFROM:-0600
TZOFFSETTO:-0500
TZNAME:CDT
DTSTART:20300310T080000
END:DAYLIGHT
BEGIN:STANDARD
TZOFFSETFROM:-0500
TZOFFSETTO:-0600
TZNAME:CST
DTSTART:20301103T070000
END:STANDARD
END:VTIMEZONE
BEGIN:VEVENT
DTSTART;TZID=America/Chicago:20280327T090000
DTEND;TZID=America/Chicago:20280327T090000
DTSTAMP:20260422T141724
CREATED:20251121T193936Z
LAST-MODIFIED:20251203T150636Z
UID:10000184-1837760400-1837760400@webstercountykentucky.org
SUMMARY:Fiscal Court Meeting
DESCRIPTION:The Webster County Fiscal Court meets on the 2nd and 4th Monday of each month. Meetings are held at 9am at the Webster County Senior Center.
URL:https://webstercountykentucky.org/event/fiscal-court-meeting/2028-03-27/
LOCATION:Webster County Senior Center\, 80 N College St.\, Dixon\, KY\, 42409\, United States
END:VEVENT
BEGIN:VEVENT
DTSTART;TZID=America/Chicago:20280410T090000
DTEND;TZID=America/Chicago:20280410T090000
DTSTAMP:20260422T141724
CREATED:20251121T193936Z
LAST-MODIFIED:20251203T150636Z
UID:10000185-1838970000-1838970000@webstercountykentucky.org
SUMMARY:Fiscal Court Meeting
DESCRIPTION:The Webster County Fiscal Court meets on the 2nd and 4th Monday of each month. Meetings are held at 9am at the Webster County Senior Center.
URL:https://webstercountykentucky.org/event/fiscal-court-meeting/2028-04-10/
LOCATION:Webster County Senior Center\, 80 N College St.\, Dixon\, KY\, 42409\, United States
END:VEVENT
BEGIN:VEVENT
DTSTART;TZID=America/Chicago:20280424T090000
DTEND;TZID=America/Chicago:20280424T090000
DTSTAMP:20260422T141724
CREATED:20251121T193936Z
LAST-MODIFIED:20251203T150636Z
UID:10000186-1840179600-1840179600@webstercountykentucky.org
SUMMARY:Fiscal Court Meeting
DESCRIPTION:The Webster County Fiscal Court meets on the 2nd and 4th Monday of each month. Meetings are held at 9am at the Webster County Senior Center.
URL:https://webstercountykentucky.org/event/fiscal-court-meeting/2028-04-24/
LOCATION:Webster County Senior Center\, 80 N College St.\, Dixon\, KY\, 42409\, United States
END:VEVENT
BEGIN:VEVENT
DTSTART;TZID=America/Chicago:20280508T090000
DTEND;TZID=America/Chicago:20280508T090000
DTSTAMP:20260422T141724
CREATED:20251121T193936Z
LAST-MODIFIED:20251203T150636Z
UID:10000187-1841389200-1841389200@webstercountykentucky.org
SUMMARY:Fiscal Court Meeting
DESCRIPTION:The Webster County Fiscal Court meets on the 2nd and 4th Monday of each month. Meetings are held at 9am at the Webster County Senior Center.
URL:https://webstercountykentucky.org/event/fiscal-court-meeting/2028-05-08/
LOCATION:Webster County Senior Center\, 80 N College St.\, Dixon\, KY\, 42409\, United States
END:VEVENT
BEGIN:VEVENT
DTSTART;TZID=America/Chicago:20280522T090000
DTEND;TZID=America/Chicago:20280522T090000
DTSTAMP:20260422T141724
CREATED:20251121T193936Z
LAST-MODIFIED:20251203T150636Z
UID:10000188-1842598800-1842598800@webstercountykentucky.org
SUMMARY:Fiscal Court Meeting
DESCRIPTION:The Webster County Fiscal Court meets on the 2nd and 4th Monday of each month. Meetings are held at 9am at the Webster County Senior Center.
URL:https://webstercountykentucky.org/event/fiscal-court-meeting/2028-05-22/
LOCATION:Webster County Senior Center\, 80 N College St.\, Dixon\, KY\, 42409\, United States
END:VEVENT
BEGIN:VEVENT
DTSTART;TZID=America/Chicago:20280612T090000
DTEND;TZID=America/Chicago:20280612T090000
DTSTAMP:20260422T141724
CREATED:20251121T193936Z
LAST-MODIFIED:20251203T150636Z
UID:10000189-1844413200-1844413200@webstercountykentucky.org
SUMMARY:Fiscal Court Meeting
DESCRIPTION:The Webster County Fiscal Court meets on the 2nd and 4th Monday of each month. Meetings are held at 9am at the Webster County Senior Center.
URL:https://webstercountykentucky.org/event/fiscal-court-meeting/2028-06-12/
LOCATION:Webster County Senior Center\, 80 N College St.\, Dixon\, KY\, 42409\, United States
END:VEVENT
BEGIN:VEVENT
DTSTART;TZID=America/Chicago:20280626T090000
DTEND;TZID=America/Chicago:20280626T090000
DTSTAMP:20260422T141724
CREATED:20251121T193936Z
LAST-MODIFIED:20251203T150636Z
UID:10000190-1845622800-1845622800@webstercountykentucky.org
SUMMARY:Fiscal Court Meeting
DESCRIPTION:The Webster County Fiscal Court meets on the 2nd and 4th Monday of each month. Meetings are held at 9am at the Webster County Senior Center.
URL:https://webstercountykentucky.org/event/fiscal-court-meeting/2028-06-26/
LOCATION:Webster County Senior Center\, 80 N College St.\, Dixon\, KY\, 42409\, United States
END:VEVENT
BEGIN:VEVENT
DTSTART;TZID=America/Chicago:20280710T090000
DTEND;TZID=America/Chicago:20280710T090000
DTSTAMP:20260422T141724
CREATED:20251121T193936Z
LAST-MODIFIED:20251203T150636Z
UID:10000191-1846832400-1846832400@webstercountykentucky.org
SUMMARY:Fiscal Court Meeting
DESCRIPTION:The Webster County Fiscal Court meets on the 2nd and 4th Monday of each month. Meetings are held at 9am at the Webster County Senior Center.
URL:https://webstercountykentucky.org/event/fiscal-court-meeting/2028-07-10/
LOCATION:Webster County Senior Center\, 80 N College St.\, Dixon\, KY\, 42409\, United States
END:VEVENT
BEGIN:VEVENT
DTSTART;TZID=America/Chicago:20280724T090000
DTEND;TZID=America/Chicago:20280724T090000
DTSTAMP:20260422T141724
CREATED:20251121T193936Z
LAST-MODIFIED:20251203T150636Z
UID:10000192-1848042000-1848042000@webstercountykentucky.org
SUMMARY:Fiscal Court Meeting
DESCRIPTION:The Webster County Fiscal Court meets on the 2nd and 4th Monday of each month. Meetings are held at 9am at the Webster County Senior Center.
URL:https://webstercountykentucky.org/event/fiscal-court-meeting/2028-07-24/
LOCATION:Webster County Senior Center\, 80 N College St.\, Dixon\, KY\, 42409\, United States
END:VEVENT
BEGIN:VEVENT
DTSTART;TZID=America/Chicago:20280814T090000
DTEND;TZID=America/Chicago:20280814T090000
DTSTAMP:20260422T141724
CREATED:20251121T193936Z
LAST-MODIFIED:20251203T150636Z
UID:10000193-1849856400-1849856400@webstercountykentucky.org
SUMMARY:Fiscal Court Meeting
DESCRIPTION:The Webster County Fiscal Court meets on the 2nd and 4th Monday of each month. Meetings are held at 9am at the Webster County Senior Center.
URL:https://webstercountykentucky.org/event/fiscal-court-meeting/2028-08-14/
LOCATION:Webster County Senior Center\, 80 N College St.\, Dixon\, KY\, 42409\, United States
END:VEVENT
BEGIN:VEVENT
DTSTART;TZID=America/Chicago:20280828T090000
DTEND;TZID=America/Chicago:20280828T090000
DTSTAMP:20260422T141724
CREATED:20251121T193936Z
LAST-MODIFIED:20251203T150636Z
UID:10000194-1851066000-1851066000@webstercountykentucky.org
SUMMARY:Fiscal Court Meeting
DESCRIPTION:The Webster County Fiscal Court meets on the 2nd and 4th Monday of each month. Meetings are held at 9am at the Webster County Senior Center.
URL:https://webstercountykentucky.org/event/fiscal-court-meeting/2028-08-28/
LOCATION:Webster County Senior Center\, 80 N College St.\, Dixon\, KY\, 42409\, United States
END:VEVENT
BEGIN:VEVENT
DTSTART;TZID=America/Chicago:20280911T090000
DTEND;TZID=America/Chicago:20280911T090000
DTSTAMP:20260422T141724
CREATED:20251121T193936Z
LAST-MODIFIED:20251203T150636Z
UID:10000195-1852275600-1852275600@webstercountykentucky.org
SUMMARY:Fiscal Court Meeting
DESCRIPTION:The Webster County Fiscal Court meets on the 2nd and 4th Monday of each month. Meetings are held at 9am at the Webster County Senior Center.
URL:https://webstercountykentucky.org/event/fiscal-court-meeting/2028-09-11/
LOCATION:Webster County Senior Center\, 80 N College St.\, Dixon\, KY\, 42409\, United States
END:VEVENT
BEGIN:VEVENT
DTSTART;TZID=America/Chicago:20280925T090000
DTEND;TZID=America/Chicago:20280925T090000
DTSTAMP:20260422T141724
CREATED:20251121T193936Z
LAST-MODIFIED:20251203T150636Z
UID:10000196-1853485200-1853485200@webstercountykentucky.org
SUMMARY:Fiscal Court Meeting
DESCRIPTION:The Webster County Fiscal Court meets on the 2nd and 4th Monday of each month. Meetings are held at 9am at the Webster County Senior Center.
URL:https://webstercountykentucky.org/event/fiscal-court-meeting/2028-09-25/
LOCATION:Webster County Senior Center\, 80 N College St.\, Dixon\, KY\, 42409\, United States
END:VEVENT
BEGIN:VEVENT
DTSTART;TZID=America/Chicago:20281009T090000
DTEND;TZID=America/Chicago:20281009T090000
DTSTAMP:20260422T141724
CREATED:20251121T193936Z
LAST-MODIFIED:20251203T150636Z
UID:10000197-1854694800-1854694800@webstercountykentucky.org
SUMMARY:Fiscal Court Meeting
DESCRIPTION:The Webster County Fiscal Court meets on the 2nd and 4th Monday of each month. Meetings are held at 9am at the Webster County Senior Center.
URL:https://webstercountykentucky.org/event/fiscal-court-meeting/2028-10-09/
LOCATION:Webster County Senior Center\, 80 N College St.\, Dixon\, KY\, 42409\, United States
END:VEVENT
BEGIN:VEVENT
DTSTART;TZID=America/Chicago:20281023T090000
DTEND;TZID=America/Chicago:20281023T090000
DTSTAMP:20260422T141724
CREATED:20251121T193936Z
LAST-MODIFIED:20251203T150636Z
UID:10000198-1855904400-1855904400@webstercountykentucky.org
SUMMARY:Fiscal Court Meeting
DESCRIPTION:The Webster County Fiscal Court meets on the 2nd and 4th Monday of each month. Meetings are held at 9am at the Webster County Senior Center.
URL:https://webstercountykentucky.org/event/fiscal-court-meeting/2028-10-23/
LOCATION:Webster County Senior Center\, 80 N College St.\, Dixon\, KY\, 42409\, United States
END:VEVENT
BEGIN:VEVENT
DTSTART;TZID=America/Chicago:20281113T090000
DTEND;TZID=America/Chicago:20281113T090000
DTSTAMP:20260422T141724
CREATED:20251121T193936Z
LAST-MODIFIED:20251203T150636Z
UID:10000199-1857718800-1857718800@webstercountykentucky.org
SUMMARY:Fiscal Court Meeting
DESCRIPTION:The Webster County Fiscal Court meets on the 2nd and 4th Monday of each month. Meetings are held at 9am at the Webster County Senior Center.
URL:https://webstercountykentucky.org/event/fiscal-court-meeting/2028-11-13/
LOCATION:Webster County Senior Center\, 80 N College St.\, Dixon\, KY\, 42409\, United States
END:VEVENT
BEGIN:VEVENT
DTSTART;TZID=America/Chicago:20281127T090000
DTEND;TZID=America/Chicago:20281127T090000
DTSTAMP:20260422T141724
CREATED:20251121T193936Z
LAST-MODIFIED:20251203T150636Z
UID:10000200-1858928400-1858928400@webstercountykentucky.org
SUMMARY:Fiscal Court Meeting
DESCRIPTION:The Webster County Fiscal Court meets on the 2nd and 4th Monday of each month. Meetings are held at 9am at the Webster County Senior Center.
URL:https://webstercountykentucky.org/event/fiscal-court-meeting/2028-11-27/
LOCATION:Webster County Senior Center\, 80 N College St.\, Dixon\, KY\, 42409\, United States
END:VEVENT
BEGIN:VEVENT
DTSTART;TZID=America/Chicago:20281211T090000
DTEND;TZID=America/Chicago:20281211T090000
DTSTAMP:20260422T141724
CREATED:20251121T193936Z
LAST-MODIFIED:20251203T150636Z
UID:10000201-1860138000-1860138000@webstercountykentucky.org
SUMMARY:Fiscal Court Meeting
DESCRIPTION:The Webster County Fiscal Court meets on the 2nd and 4th Monday of each month. Meetings are held at 9am at the Webster County Senior Center.
URL:https://webstercountykentucky.org/event/fiscal-court-meeting/2028-12-11/
LOCATION:Webster County Senior Center\, 80 N College St.\, Dixon\, KY\, 42409\, United States
END:VEVENT
BEGIN:VEVENT
DTSTART;TZID=America/Chicago:20281225T090000
DTEND;TZID=America/Chicago:20281225T090000
DTSTAMP:20260422T141724
CREATED:20251121T193936Z
LAST-MODIFIED:20251203T150636Z
UID:10000202-1861347600-1861347600@webstercountykentucky.org
SUMMARY:Fiscal Court Meeting
DESCRIPTION:The Webster County Fiscal Court meets on the 2nd and 4th Monday of each month. Meetings are held at 9am at the Webster County Senior Center.
URL:https://webstercountykentucky.org/event/fiscal-court-meeting/2028-12-25/
LOCATION:Webster County Senior Center\, 80 N College St.\, Dixon\, KY\, 42409\, United States
END:VEVENT
BEGIN:VEVENT
DTSTART;TZID=America/Chicago:20290108T090000
DTEND;TZID=America/Chicago:20290108T090000
DTSTAMP:20260422T141724
CREATED:20251121T193936Z
LAST-MODIFIED:20251203T150636Z
UID:10000203-1862557200-1862557200@webstercountykentucky.org
SUMMARY:Fiscal Court Meeting
DESCRIPTION:The Webster County Fiscal Court meets on the 2nd and 4th Monday of each month. Meetings are held at 9am at the Webster County Senior Center.
URL:https://webstercountykentucky.org/event/fiscal-court-meeting/2029-01-08/
LOCATION:Webster County Senior Center\, 80 N College St.\, Dixon\, KY\, 42409\, United States
END:VEVENT
BEGIN:VEVENT
DTSTART;TZID=America/Chicago:20290122T090000
DTEND;TZID=America/Chicago:20290122T090000
DTSTAMP:20260422T141724
CREATED:20251121T193936Z
LAST-MODIFIED:20251203T150636Z
UID:10000204-1863766800-1863766800@webstercountykentucky.org
SUMMARY:Fiscal Court Meeting
DESCRIPTION:The Webster County Fiscal Court meets on the 2nd and 4th Monday of each month. Meetings are held at 9am at the Webster County Senior Center.
URL:https://webstercountykentucky.org/event/fiscal-court-meeting/2029-01-22/
LOCATION:Webster County Senior Center\, 80 N College St.\, Dixon\, KY\, 42409\, United States
END:VEVENT
BEGIN:VEVENT
DTSTART;TZID=America/Chicago:20290212T090000
DTEND;TZID=America/Chicago:20290212T090000
DTSTAMP:20260422T141724
CREATED:20251121T193936Z
LAST-MODIFIED:20251203T150636Z
UID:10000205-1865581200-1865581200@webstercountykentucky.org
SUMMARY:Fiscal Court Meeting
DESCRIPTION:The Webster County Fiscal Court meets on the 2nd and 4th Monday of each month. Meetings are held at 9am at the Webster County Senior Center.
URL:https://webstercountykentucky.org/event/fiscal-court-meeting/2029-02-12/
LOCATION:Webster County Senior Center\, 80 N College St.\, Dixon\, KY\, 42409\, United States
END:VEVENT
BEGIN:VEVENT
DTSTART;TZID=America/Chicago:20290226T090000
DTEND;TZID=America/Chicago:20290226T090000
DTSTAMP:20260422T141724
CREATED:20251121T193936Z
LAST-MODIFIED:20251203T150636Z
UID:10000206-1866790800-1866790800@webstercountykentucky.org
SUMMARY:Fiscal Court Meeting
DESCRIPTION:The Webster County Fiscal Court meets on the 2nd and 4th Monday of each month. Meetings are held at 9am at the Webster County Senior Center.
URL:https://webstercountykentucky.org/event/fiscal-court-meeting/2029-02-26/
LOCATION:Webster County Senior Center\, 80 N College St.\, Dixon\, KY\, 42409\, United States
END:VEVENT
BEGIN:VEVENT
DTSTART;TZID=America/Chicago:20290312T090000
DTEND;TZID=America/Chicago:20290312T090000
DTSTAMP:20260422T141724
CREATED:20251121T193936Z
LAST-MODIFIED:20251203T150636Z
UID:10000207-1868000400-1868000400@webstercountykentucky.org
SUMMARY:Fiscal Court Meeting
DESCRIPTION:The Webster County Fiscal Court meets on the 2nd and 4th Monday of each month. Meetings are held at 9am at the Webster County Senior Center.
URL:https://webstercountykentucky.org/event/fiscal-court-meeting/2029-03-12/
LOCATION:Webster County Senior Center\, 80 N College St.\, Dixon\, KY\, 42409\, United States
END:VEVENT
BEGIN:VEVENT
DTSTART;TZID=America/Chicago:20290326T090000
DTEND;TZID=America/Chicago:20290326T090000
DTSTAMP:20260422T141724
CREATED:20251121T193936Z
LAST-MODIFIED:20251203T150636Z
UID:10000208-1869210000-1869210000@webstercountykentucky.org
SUMMARY:Fiscal Court Meeting
DESCRIPTION:The Webster County Fiscal Court meets on the 2nd and 4th Monday of each month. Meetings are held at 9am at the Webster County Senior Center.
URL:https://webstercountykentucky.org/event/fiscal-court-meeting/2029-03-26/
LOCATION:Webster County Senior Center\, 80 N College St.\, Dixon\, KY\, 42409\, United States
END:VEVENT
BEGIN:VEVENT
DTSTART;TZID=America/Chicago:20290409T090000
DTEND;TZID=America/Chicago:20290409T090000
DTSTAMP:20260422T141724
CREATED:20251121T193936Z
LAST-MODIFIED:20251203T150636Z
UID:10000209-1870419600-1870419600@webstercountykentucky.org
SUMMARY:Fiscal Court Meeting
DESCRIPTION:The Webster County Fiscal Court meets on the 2nd and 4th Monday of each month. Meetings are held at 9am at the Webster County Senior Center.
URL:https://webstercountykentucky.org/event/fiscal-court-meeting/2029-04-09/
LOCATION:Webster County Senior Center\, 80 N College St.\, Dixon\, KY\, 42409\, United States
END:VEVENT
BEGIN:VEVENT
DTSTART;TZID=America/Chicago:20290423T090000
DTEND;TZID=America/Chicago:20290423T090000
DTSTAMP:20260422T141724
CREATED:20251121T193936Z
LAST-MODIFIED:20251203T150636Z
UID:10000210-1871629200-1871629200@webstercountykentucky.org
SUMMARY:Fiscal Court Meeting
DESCRIPTION:The Webster County Fiscal Court meets on the 2nd and 4th Monday of each month. Meetings are held at 9am at the Webster County Senior Center.
URL:https://webstercountykentucky.org/event/fiscal-court-meeting/2029-04-23/
LOCATION:Webster County Senior Center\, 80 N College St.\, Dixon\, KY\, 42409\, United States
END:VEVENT
BEGIN:VEVENT
DTSTART;TZID=America/Chicago:20290514T090000
DTEND;TZID=America/Chicago:20290514T090000
DTSTAMP:20260422T141724
CREATED:20251121T193936Z
LAST-MODIFIED:20251203T150636Z
UID:10000211-1873443600-1873443600@webstercountykentucky.org
SUMMARY:Fiscal Court Meeting
DESCRIPTION:The Webster County Fiscal Court meets on the 2nd and 4th Monday of each month. Meetings are held at 9am at the Webster County Senior Center.
URL:https://webstercountykentucky.org/event/fiscal-court-meeting/2029-05-14/
LOCATION:Webster County Senior Center\, 80 N College St.\, Dixon\, KY\, 42409\, United States
END:VEVENT
BEGIN:VEVENT
DTSTART;TZID=America/Chicago:20290528T090000
DTEND;TZID=America/Chicago:20290528T090000
DTSTAMP:20260422T141724
CREATED:20251121T193936Z
LAST-MODIFIED:20251203T150636Z
UID:10000212-1874653200-1874653200@webstercountykentucky.org
SUMMARY:Fiscal Court Meeting
DESCRIPTION:The Webster County Fiscal Court meets on the 2nd and 4th Monday of each month. Meetings are held at 9am at the Webster County Senior Center.
URL:https://webstercountykentucky.org/event/fiscal-court-meeting/2029-05-28/
LOCATION:Webster County Senior Center\, 80 N College St.\, Dixon\, KY\, 42409\, United States
END:VEVENT
BEGIN:VEVENT
DTSTART;TZID=America/Chicago:20290611T090000
DTEND;TZID=America/Chicago:20290611T090000
DTSTAMP:20260422T141724
CREATED:20251121T193936Z
LAST-MODIFIED:20251203T150636Z
UID:10000213-1875862800-1875862800@webstercountykentucky.org
SUMMARY:Fiscal Court Meeting
DESCRIPTION:The Webster County Fiscal Court meets on the 2nd and 4th Monday of each month. Meetings are held at 9am at the Webster County Senior Center.
URL:https://webstercountykentucky.org/event/fiscal-court-meeting/2029-06-11/
LOCATION:Webster County Senior Center\, 80 N College St.\, Dixon\, KY\, 42409\, United States
END:VEVENT
END:VCALENDAR